Workbook

Sheet 【親】セット用返礼品等概要書
A1: 【親】セット用返礼品等概要書 | AE1: 返礼品等の名称 | AF1: 区域内において 生じた価値の割合 （％） | AG1: 区域内において生じた価値の割合の算出方法 ※１ | AK1: 返礼品等の 製造・加工地 ※２ | AL1: 地方団体 における 調達費用 （円） | AM1: 一般販売価格 （円） ※３
A2: 申請日 | E2: 令和 | I2: 年 | L2: 月 | O2: 日 | T2: 返礼品等コード
A3: 申請事業者名 | E3: フリガナ | T3: 区分 | W3: ①新規返礼品等の追加 | AG3: 標準的な 算出方法 | AH3: その他の 算出方法
W4: ②既存返礼品等の内容変更
W5: ④その他（ ） | AI5: その他の 算出方法の詳細 | AJ5: その他の 算出方法とする理由
A6: 返礼品等 | E6: 【親】名 称 | T6: 内容量 | X6: （例：300g×4パック）
A7: ［名称と内容量］ | AE7: =E7 -> 0 | AF7: =#REF! -> #REF! | AG7: =IF(#REF!="✓","○","") -> #REF! | AK7: =#REF! -> #REF! | AL7: =H17 -> 0 | AM7: =P17 -> 0
A9: 説明 | E9: 受賞歴 | H9: 無 | K9: 有 | M9: 受賞年 | O9: [ | S9: 年 ] | T9: 媒体名 | V9: [ | AB9: ]
E10: メディア | H10: 無 | K10: 有 | N10: TV | P10: 本 | R10: その他 | T10: 媒体名 | V10: [ | AB10: ]
A13: ［概要やPRポイント］
A17: 価格(税込) | E17: 調達費用 | K17: 円 | L17: 一般販売価格 | S17: 円 | T17: ※ | U17: 送料を除いた価格を記入して下さい
A18: 年間在庫数 | F18: 無制限 | K18: 数量限定 | M18: [個数： | R18: /年 | S18: ］ | T18: ※ | U18: 非売品の場合、一般販売価格は
A19: 出荷時期 | F19: 通年 | K19: 期間限定 | M19: ［ | P19: ～ | S19: ］ | U19: 類似品の価格を記入して下さい
A20: 総重量 | J20: kg | K20: 梱包サイズ | R20: サイズ | T20: ※ | U20: サイズはヤマト運輸に準じる
A21: 発送方法 | F21: 常温 | K21: 冷蔵 | O21: 冷凍 | T21: 配送不可 エリア | W21: 離島 | Y21: 北海道
A22: 出荷までの期間 | F22: 随時発送 | K22: 3日以内 | O22: その他 [ | S22: ] | W22: 沖縄 | Y22: その他 [ | AB22: ]
A23: 配送留意事項
A24: 期限 | F24: 消費期限 | J24: 日 | L24: 賞味期限 | P24: 日 | R24: 有効期限 | V24: 日 | X24: 使用期限 | AB24: 日
A25: 原材料
A26: 食物アレルギー 個別表示（原則） | F26: えび | H26: かに | J26: 小麦 | L26: そば | N26: 卵 | P26: 乳 | R26: くるみ | U26: 落花生 | X26: あわび | AA26: ゼラチン
F27: いか | H27: 牛肉 | J27: ごま | L27: さけ | N27: さば | P27: 大豆 | R27: いくら | U27: バナナ | X27: りんご | AA27: アーモンド
F28: 鶏肉 | H28: 豚肉 | J28: もも | L28: 山芋 | N28: キウイフルーツ | R28: カシューナッツ | V28: マカダミアナッツ | AA28: オレンジ
A29: 一括表示（例外） ※希望の場合のみ
A31: その他留意事項
A33: 出荷元 | E33: 事業者名
E34: 所在地 | G34: 〒 | J34: ― | N34: ●●都道府県●●市区町村●●番地等
E35: 担当者名 | G35: フリガナ | P35: 所属部署
E37: 電話番号 | P37: E-mail
A38: ホームページ | E38: ホームページ | K38: ある | N38: なし | P38: ※ | Q38: ホームページが「ある」と答えた方のみ
E39: URLの掲載許可 | K39: 可 | N39: 不可 | P39: URL | R39: [ | AB39: ]
E40: 画像の使用許可 | K40: 可 | N40: 不可 | P40: ※ | Q40: ふるさと納税関連のポータルサイトや、チラシ・パンフレット等のPR
E41: 写真撮影の希望 | K41: する | N41: しない | P41: ※ | Q41: 提供商品代、配送費は事業者様負担（撮影料は無料）
A42: 総務省告示 第６条の該当 | E42: 地場産品類型 | I42: 第 | J42: セット | N42: 号
E43: 該当理由 | H43: 回答欄Ａ | O43: 回答欄Ｂ | V43: 回答欄Ｃ
A45: ※注意事項 | E45: ・区分①又は②及び④で外形が変更となる場合は、返礼品等の画像を添付して下さい。
E46: ・総務省告示第６条に該当しない場合は、返礼品等の要件に該当しません。

Sheet 【子】セット用返礼品等概要書①
A1: 【子】セット用返礼品等概要書① | AE1: 返礼品等の名称 | AF1: 区域内において 生じた価値の割合 （％） | AG1: 区域内において生じた価値の割合の算出方法 ※１ | AK1: 返礼品等の 製造・加工地 ※２ | AL1: 地方団体 における 調達費用 （円） | AM1: 一般販売価格 （円） ※３
A2: 申請日 | E2: 令和 | I2: 年 | L2: 月 | O2: 日 | T2: 返礼品等コード | X2: =IF(【親】セット用返礼品等概要書!X2="","",【親】セット用返礼品等概要書!X2)
A3: 申請事業者名 | E3: フリガナ | T3: 区分 | W3: ①新規返礼品等の追加 | AG3: 標準的な 算出方法 | AH3: その他の 算出方法
E4: =【親】セット用返礼品等概要書!E$4 -> 0 | W4: ②既存返礼品等の内容変更
W5: ④その他 | AI5: その他の 算出方法の詳細 | AJ5: その他の 算出方法とする理由
A6: 返礼品等 | E6: 【子①】名 称 | T6: 内容量 | X6: （例：300g×4パック）
A7: ［名称と内容量］ | AE7: =E7 -> 0 | AF7: =C57 | AG7: =IF(D60="✓","○","") | AK7: =Q76 | AL7: =H17 -> 0 | AM7: =P17 -> 0
A9: 説明 | E9: 受賞歴 | H9: 無 | K9: 有 | M9: 受賞年 | O9: [ | S9: 年 ] | T9: 媒体名 | V9: [ | AB9: ]
E10: メディア | H10: 無 | K10: 有 | N10: TV | P10: 本 | R10: その他 | T10: 媒体名 | V10: [ | AB10: ]
A13: ［概要やPRポイント］
A17: 価格(税込) | E17: 調達費用 | K17: 円 | L17: 一般販売価格 | S17: 円 | T17: ※ | U17: 送料を除いた価格を記入して下さい
A18: 年間在庫数 | F18: 無制限 | K18: 数量限定 | M18: [個数： | S18: ］ | T18: ※ | U18: 非売品の場合、一般販売価格は
A19: 出荷時期 | F19: 通年 | K19: 期間限定 | M19: ［ | P19: ～ | S19: ］ | U19: 類似品の価格を記入して下さい
A20: 総重量 | J20: kg | K20: 梱包サイズ | R20: サイズ | T20: ※ | U20: サイズはヤマト運輸に準じる
A21: 発送方法 | F21: 常温 | K21: 冷蔵 | O21: 冷凍 | T21: 配送 不可エリア | X21: 離島 | AA21: 北海道
A22: 出荷までの期間 | F22: 随時発送 | K22: 3日以内 | O22: その他 [ | S22: ] | X22: 沖縄 | AA22: [ | AB22: ]
A23: 配送留意事項
A24: 期限 | F24: 消費期限 | J24: 日 | L24: 賞味期限 | P24: 日 | R24: 有効期限 | V24: 日 | X24: 使用期限 | AB24: 日
A25: 原材料
A26: 食物アレルギー 個別表示（原則） | F26: えび | H26: かに | J26: 小麦 | L26: そば | N26: 卵 | P26: 乳 | R26: くるみ | U26: 落花生 | X26: あわび | AA26: ゼラチン
F27: いか | H27: 牛肉 | J27: ごま | L27: さけ | N27: さば | P27: 大豆 | R27: いくら | U27: バナナ | X27: りんご | AA27: アーモンド
F28: 鶏肉 | H28: 豚肉 | J28: もも | L28: 山芋 | N28: キウイフルーツ | R28: カシューナッツ | V28: マカダミアナッツ | AA28: オレンジ
A29: 一括表示（例外） ※希望の場合のみ
A31: その他留意事項
A33: 出荷元 | E33: 事業者名
E34: 所在地 | G34: 〒 | J34: ―
E35: 担当者名 | G35: フリガナ | P35: 所属部署
E37: 電話番号 | P37: E-mail
A38: ホームページ | E38: ホームページ | K38: ある | N38: なし | P38: ※ | Q38: ホームページが「ある」と答えた方のみ
E39: URLの掲載許可 | K39: 可 | N39: 不可 | P39: URL | R39: [ | AB39: ]
E40: 画像の使用許可 | K40: 可 | N40: 不可 | P40: ※ | Q40: ふるさと納税関連のポータルサイトや、チラシ・パンフレット等のPR
E41: 写真撮影の希望 | K41: する | N41: しない | P41: ※ | Q41: 提供商品代、配送費は事業者様負担（撮影料は無料）
A42: 総務省告示 第５条の該当 | E42: 地場産品類型 | I42: 第 | N42: 号
E43: 該当理由 | H43: 回答欄Ａ | O43: 回答欄Ｂ | V43: 回答欄Ｃ
A45: ※注意事項 | E45: ・区分①又は②及び④で外形が変更となる場合は、返礼品等の画像を添付して下さい。
E46: ・総務省告示第５条に該当しない場合は、返礼品等の要件に該当しません。
A47: =IF(OR(J42=AS48,J42=AS49,J42=AS50,J42=AS51),"別添１","") | AS47: ↓消さないでください↓
AS48: 下記類型の場合、３号証明書が本シート下部に表示されます。
AS49: 3
AS50: 3（熟成肉）
...

Sheet 【子】セット用返礼品等概要書②
A1: 【子】セット用返礼品等概要書② | AE1: 返礼品等の名称 | AF1: 区域内において 生じた価値の割合 （％） | AG1: 区域内において生じた価値の割合の算出方法 ※１ | AK1: 返礼品等の 製造・加工地 ※２ | AL1: 地方団体 における 調達費用 （円） | AM1: 一般販売価格 （円） ※３
A2: 申請日 | E2: 令和 | I2: 年 | L2: 月 | O2: 日 | T2: 返礼品等コード | X2: =IF(【親】セット用返礼品等概要書!X2="","",【親】セット用返礼品等概要書!X2)
A3: 申請事業者名 | E3: フリガナ | T3: 区分 | W3: ①新規返礼品等の追加 | AG3: 標準的な 算出方法 | AH3: その他の 算出方法
E4: =【親】セット用返礼品等概要書!E$4 -> 0 | W4: ②既存返礼品等の内容変更
W5: ④その他 | AI5: その他の 算出方法の詳細 | AJ5: その他の 算出方法とする理由
A6: 返礼品等 | E6: 【子②】名 称 | T6: 内容量 | X6: （例：300g×4パック）
A7: ［名称と内容量］ | AE7: =E7 -> 0 | AF7: =C57 | AG7: =IF(D60="✓","○","") | AK7: =Q76 | AL7: =H17 -> 0 | AM7: =P17 -> 0
A9: 説明 | E9: 受賞歴 | H9: 無 | K9: 有 | M9: 受賞年 | O9: [ | S9: 年 ] | T9: 媒体名 | V9: [ | AB9: ]
E10: メディア | H10: 無 | K10: 有 | N10: TV | P10: 本 | R10: その他 | T10: 媒体名 | V10: [ | AB10: ]
A13: ［概要やPRポイント］
A17: 価格(税込) | E17: 調達費用 | K17: 円 | L17: 一般販売価格 | S17: 円 | T17: ※ | U17: 送料を除いた価格を記入して下さい
A18: 年間在庫数 | F18: 無制限 | K18: 数量限定 | M18: [個数： | S18: ］ | T18: ※ | U18: 非売品の場合、一般販売価格は
A19: 出荷時期 | F19: 通年 | K19: 期間限定 | M19: ［ | P19: ～ | S19: ］ | U19: 類似品の価格を記入して下さい
A20: 総重量 | J20: kg | K20: 梱包サイズ | R20: サイズ | T20: ※ | U20: サイズはヤマト運輸に準じる
A21: 発送方法 | F21: 常温 | K21: 冷蔵 | O21: 冷凍 | T21: 配送 不可エリア | X21: 離島 | AA21: 北海道
A22: 出荷までの期間 | F22: 随時発送 | K22: 3日以内 | O22: その他 [ | S22: ] | X22: 沖縄 | AA22: [ | AB22: ]
A23: 配送留意事項
A24: 期限 | F24: 消費期限 | J24: 日 | L24: 賞味期限 | P24: 日 | R24: 有効期限 | V24: 日 | X24: 使用期限 | AB24: 日
A25: 原材料
A26: 食物アレルギー 個別表示（原則） | F26: えび | H26: かに | J26: 小麦 | L26: そば | N26: 卵 | P26: 乳 | R26: くるみ | U26: 落花生 | X26: あわび | AA26: ゼラチン
F27: いか | H27: 牛肉 | J27: ごま | L27: さけ | N27: さば | P27: 大豆 | R27: いくら | U27: バナナ | X27: りんご | AA27: アーモンド
F28: 鶏肉 | H28: 豚肉 | J28: もも | L28: 山芋 | N28: キウイフルーツ | R28: カシューナッツ | V28: マカダミアナッツ | AA28: オレンジ
A29: 一括表示（例外） ※希望の場合のみ
A31: その他留意事項
A33: 出荷元 | E33: 事業者名
E34: 所在地 | G34: 〒 | J34: ―
E35: 担当者名 | G35: フリガナ | P35: 所属部署
E37: 電話番号 | P37: E-mail
A38: ホームページ | E38: ホームページ | K38: ある | N38: なし | P38: ※ | Q38: ホームページが「ある」と答えた方のみ
E39: URLの掲載許可 | K39: 可 | N39: 不可 | P39: URL | R39: [ | AB39: ]
E40: 画像の使用許可 | K40: 可 | N40: 不可 | P40: ※ | Q40: ふるさと納税関連のポータルサイトや、チラシ・パンフレット等のPR
E41: 写真撮影の希望 | K41: する | N41: しない | P41: ※ | Q41: 提供商品代、配送費は事業者様負担（撮影料は無料）
A42: 総務省告示 第５条の該当 | E42: 地場産品類型 | I42: 第 | N42: 号
E43: 該当理由 | H43: 回答欄Ａ | O43: 回答欄Ｂ | V43: 回答欄Ｃ
A45: ※注意事項 | E45: ・区分①又は②及び④で外形が変更となる場合は、返礼品等の画像を添付して下さい。
E46: ・総務省告示第５条に該当しない場合は、返礼品等の要件に該当しません。
A47: =IF(OR(J42=AS48,J42=AS49,J42=AS50,J42=AS51),"別添１","") | AS47: ↓消さないでください↓
AS48: 下記類型の場合、３号証明書が本シート下部に表示されます。
AS49: 3
AS50: 3（熟成肉）
...

Sheet 【子】セット用返礼品等概要書③
A1: 【子】セット用返礼品等概要書③ | AE1: 返礼品等の名称 | AF1: 区域内において 生じた価値の割合 （％） | AG1: 区域内において生じた価値の割合の算出方法 ※１ | AK1: 返礼品等の 製造・加工地 ※２ | AL1: 地方団体 における 調達費用 （円） | AM1: 一般販売価格 （円） ※３
A2: 申請日 | E2: 令和 | I2: 年 | L2: 月 | O2: 日 | T2: 返礼品等コード | X2: =IF(【親】セット用返礼品等概要書!X2="","",【親】セット用返礼品等概要書!X2)
A3: 申請事業者名 | E3: フリガナ | T3: 区分 | W3: ①新規返礼品等の追加 | AG3: 標準的な 算出方法 | AH3: その他の 算出方法
E4: =【親】セット用返礼品等概要書!E$4 -> 0 | W4: ②既存返礼品等の内容変更
W5: ④その他 | AI5: その他の 算出方法の詳細 | AJ5: その他の 算出方法とする理由
A6: 返礼品等 | E6: 【子③】名 称 | T6: 内容量 | X6: （例：300g×4パック）
A7: ［名称と内容量］ | AE7: =E7 -> 0 | AF7: =C57 | AG7: =IF(D60="✓","○","") | AK7: =Q76 | AL7: =H17 -> 0 | AM7: =P17 -> 0
A9: 説明 | E9: 受賞歴 | H9: 無 | K9: 有 | M9: 受賞年 | O9: [ | S9: 年 ] | T9: 媒体名 | V9: [ | AB9: ]
E10: メディア | H10: 無 | K10: 有 | N10: TV | P10: 本 | R10: その他 | T10: 媒体名 | V10: [ | AB10: ]
A13: ［概要やPRポイント］
A17: 価格(税込) | E17: 調達費用 | K17: 円 | L17: 一般販売価格 | S17: 円 | T17: ※ | U17: 送料を除いた価格を記入して下さい
A18: 年間在庫数 | F18: 無制限 | K18: 数量限定 | M18: [個数： | S18: ］ | T18: ※ | U18: 非売品の場合、一般販売価格は
A19: 出荷時期 | F19: 通年 | K19: 期間限定 | M19: ［ | P19: ～ | S19: ］ | U19: 類似品の価格を記入して下さい
A20: 総重量 | J20: kg | K20: 梱包サイズ | R20: サイズ | T20: ※ | U20: サイズはヤマト運輸に準じる
A21: 発送方法 | F21: 常温 | K21: 冷蔵 | O21: 冷凍 | T21: 配送 不可エリア | X21: 離島 | AA21: 北海道
A22: 出荷までの期間 | F22: 随時発送 | K22: 3日以内 | O22: その他 [ | S22: ] | X22: 沖縄 | AA22: [ | AB22: ]
A23: 配送留意事項
A24: 期限 | F24: 消費期限 | J24: 日 | L24: 賞味期限 | P24: 日 | R24: 有効期限 | V24: 日 | X24: 使用期限 | AB24: 日
A25: 原材料
A26: 食物アレルギー 個別表示（原則） | F26: えび | H26: かに | J26: 小麦 | L26: そば | N26: 卵 | P26: 乳 | R26: くるみ | U26: 落花生 | X26: あわび | AA26: ゼラチン
F27: いか | H27: 牛肉 | J27: ごま | L27: さけ | N27: さば | P27: 大豆 | R27: いくら | U27: バナナ | X27: りんご | AA27: アーモンド
F28: 鶏肉 | H28: 豚肉 | J28: もも | L28: 山芋 | N28: キウイフルーツ | R28: カシューナッツ | V28: マカダミアナッツ | AA28: オレンジ
A29: 一括表示（例外） ※希望の場合のみ
A31: その他留意事項
A33: 出荷元 | E33: 事業者名
E34: 所在地 | G34: 〒 | J34: ―
E35: 担当者名 | G35: フリガナ | P35: 所属部署
E37: 電話番号 | P37: E-mail
A38: ホームページ | E38: ホームページ | K38: ある | N38: なし | P38: ※ | Q38: ホームページが「ある」と答えた方のみ
E39: URLの掲載許可 | K39: 可 | N39: 不可 | P39: URL | R39: [ | AB39: ]
E40: 画像の使用許可 | K40: 可 | N40: 不可 | P40: ※ | Q40: ふるさと納税関連のポータルサイトや、チラシ・パンフレット等のPR
E41: 写真撮影の希望 | K41: する | N41: しない | P41: ※ | Q41: 提供商品代、配送費は事業者様負担（撮影料は無料）
A42: 総務省告示 第５条の該当 | E42: 地場産品類型 | I42: 第 | N42: 号
E43: 該当理由 | H43: 回答欄Ａ | O43: 回答欄Ｂ | V43: 回答欄Ｃ
A45: ※注意事項 | E45: ・区分①又は②及び④で外形が変更となる場合は、返礼品等の画像を添付して下さい。
E46: ・総務省告示第５条に該当しない場合は、返礼品等の要件に該当しません。
A47: =IF(OR(J42=AS48,J42=AS49,J42=AS50,J42=AS51),"別添１","") | AS47: ↓消さないでください↓
AS48: 下記類型の場合、３号証明書が本シート下部に表示されます。
AS49: 3
AS50: 3（熟成肉）
...

Sheet 【検索用】地場産品類型
L4: ①左記地場産品類型表を確認いただき、申請する返礼品が該当する類型を確認ください
C5: 地場産品類型表
D6: 平成31年総務省告示第179号第６条に掲げる地場産品基準
C7: １号 | D7: 当該地方団体の区域内において生産されたものであること。
C10: ２号 | D10: 当該地方団体の区域内において返礼品等の原材料の主要な部分が生産されたものであること。
L12: ②該当理由の回答内容・記載例を確認する場合、下記黄色箇所より類型を選択し、入力ください。
C14: ３号 | D14: 当該地方団体の区域内において返礼品等の製造、加工その他の工程（イ及び第五号において「製造等」という。）を行うことにより当該返礼品等の価値の過半が生じているもの。
C17: ３号（熟成肉） | D17: 地場産品基準第３号ただし書きに規定する、当該地方団体の属する都道府県の区域内において生産された食肉を原材料として、当該地方団体の区域内において熟成したもの。
C18: ３号（精米） | D18: 地場産品基準第３号ただし書きに規定する、当該地方団体の属する都道府県の区域内において生産された玄米を原材料として、当該地方団体の区域内において精白したもの。 | L18: =IF(L15="","","③地場産品類型"&" "&L15&" "&"の場合、"&"返礼品等概要書の地場産品該当理由回答欄に下記内容を記載ください。")
C19: ４号 | D19: 返礼品等を提供する市区町村の区域内において生産されたものであって、近隣の他の市区町村の区域内において生産されたものと混在したもの（流通構造上、混在することが避けられない場合に限る。）であること。 | L19: 回答欄A | P19: 回答欄B | T19: 回答欄C
C20: ５号 | D20: 地方団体の広報の目的で生産された当該地方団体のキャラクターグッズ、オリジナルグッズその他これらに類するものであって、形状、名称その他の特徴から当該地方団体の独自の返礼品等であることが明白なものであること。 | L20: =IFERROR(VLOOKUP($L$15,$Z$24:$AC$43,2,FALSE),"") | P20: =IFERROR(VLOOKUP($L$15,$Z$24:$AC$43,3,FALSE),"") | T20: =IFERROR(VLOOKUP($L$15,$Z$24:$AC$43,4,FALSE),"")
C22: ６号 | D22: 前各号に該当する返礼品等と当該返礼品等に附帯するものとを合わせて提供するものであって、当該返礼品等の価値が当該提供するものの価値全体の七割以上であること。
C23: ７号 | D23: 当該地方団体の区域内において提供される役務その他これに準ずるもの（宿泊（飲食を伴うものを含む。）の提供に係る役務を除く。）であって、当該役務の主要な部分が当該地方団体に相当程度関連性のあるものであること。 | Z23: 該当類型ごとの記載内容一覧表
C24: ７号の２（宿泊） | D24: 当該地方団体の区域内に所在する宿泊施設であって、当該地方団体の属する都道府県の区域内においてのみ宿泊施設の運営を行う者が運営するもの（フランチャイズチェーン等の方式により、当該地方団体の属する都道府県の区域外に所在する宿泊施設のブランド名を冠するものを除く。）における宿泊の提供に係る役務であること。 | AA24: 回答欄Ａ | AB24: 回答欄Ｂ | AC24: 回答欄Ｃ
C25: ７号の３イ 五万以下（宿泊） | D25: 当該地方団体の区域内に所在する宿泊施設における宿泊の提供に係る役務であって、前号に該当しないもののうち、当該役務の調達に要する費用の額が一夜につき一人当たり五万円を超えないもの | L25: =IF(L15="","","④解答欄の記載例を参考にし、返礼品等該当書の解答欄を記入してください。") | Z25: １号 | AA25: 区域内で行われている生産の内容（栽培、繁殖、肥育、養殖、水揚げ等） ※加工品は２号または３号で記述すること | AB25: ― | AC25: ― | AJ25: 1 | AK25: 1
C26: ７号の３ロ 該当地域（宿泊） | D26: 当該地方団体の区域内に所在する宿泊施設における宿泊の提供に係る役務であって、前号に該当しないもののうち、特定非常災害の被害者の権利利益の保全等を図るための特別措置に関する法律（平成８年法律第85号）第２条第１項に規定する特定非常災害として指定された非常災害に際し災害救助法（昭和22年法律第118号）が適用された同法第２条第１項に規定する災害発生市町村が属する都道府県の区域内の地方団体により提供されるもの | L26: 回答欄A (例) | P26: 回答欄B (例) | T26: 回答欄C (例) | Z26: ２号 | AA26: 当該返礼品等の主な原材料のうち、区域内で生産された原材料名 | AB26: 当該返礼品等の主な原材料のうち、区域外で生産された原材料名 | AC26: 返礼品等の重量や付加価値のうち区域内で生産された原材料（回答欄A）によるものの割合（当該割合が全体の半分を一定程度以上上回るといえる理由を説明すること） | AJ26: 2 | AK26: 3
C27: ７号の４（電気） | D27: 当該地方団体の区域内において地域のエネルギー源により発電された電気であること。 | K27: 例１ | L27: =IFERROR(VLOOKUP($L$15,$Z$46:$AC$70,2,FALSE),"") | P27: =IFERROR(VLOOKUP($L$15,$Z$46:$AC$70,3,FALSE),"") | T27: =IFERROR(VLOOKUP($L$15,$Z$46:$AC$70,4,FALSE),"") | Z27: ３号 | AA27: 区域内で行われている工程（加工･製造又は企画立案等）の詳細 ※実質的な変更を加える加工または製造に該当しない例 単なる切断や組み立て、梱包、混合などは相応の付加価値が生じていると判断できません。 | AB27: 区域外で行われている工程の詳細 （区域外から原材料等を仕入れている場合は、主な原材料を記入） | AC27: ・返礼品等の付加価値のうち区域内で行われている工程（回答欄A）によるものの算出方法（原則価格に基づく標準的な算出方法を用いて、a欄及びb欄に金額を入れることで算出すること） ※価格に基づかない算出方法を用いる場合は、具体的な割合及び算出方法を記載してください。 【（参考）標準的な算出方法】 算式 （a－b）／a 算式の符号 a：当該地方団体による返礼品等の調達費用 b：当該返礼品等の製造・販売等のために当該地方団体の区域外で生じた費用 割合：（a－b）／a | AJ27: 3 | AK27: 3
C28: ８号イ | D28: 市区町村が近隣の他の市区町村と共同でこれらの市区町村の区域内において前各号のいずれかに該当するものを共通の返礼品等とするもの | Z28: ３号（熟成肉） | AA28: 肉が生産（飼養）された都道府県名 | AB28: 区域内で行われている熟成工程の詳細 | AC28: 返礼品等の付加価値のうち区域内で行われている熟成工程（回答欄B）によるものの割合とその算出方法（原則価格に基づく標準的な算出方法を用いて、A欄及びB欄に金額を入れることで算出すること） ※価格に基づかない算出方法を用いる場合は、価格で算出しない理由、具体的な割合及び算出方法を記載してください。 | AJ28: 3イ（熟成肉） | AK28: 3
C29: ８号ロ | D29: 都道府県が当該都道府県の区域内の複数の市区町村と連携し、当該連携する市区町村の区域内において前各号のいずれかに該当するものを当該都道府県及び当該市区町村の共通の返礼品等とするもの | K29: =IF(L29="","","例２") | L29: =IFERROR(VLOOKUP($L$15&"②",$Z$46:$AC$70,2,FALSE),"") | P29: =IFERROR(VLOOKUP($L$15&"②",$Z$46:$AC$70,3,FALSE),"") | T29: =IFERROR(VLOOKUP($L$15&"②",$Z$46:$AC$70,4,FALSE),"") | Z29: ３号（精米） | AA29: 米が生産（栽培）された都道府県名 | AB29: 区域内で行われている精米工程の詳細 | AC29: 返礼品等の付加価値のうち区域内で行われている精米工程（回答欄B）によるものの割合とその算出方法（原則価格に基づく標準的な算出方法を用いて、A欄及びB欄に金額を入れることで算出すること） ※価格に基づかない算出方法を用いる場合は、価格で算出しない理由、具体的な割合及び算出方法を記載してください。 | AJ29: 3イ（精米） | AK29: 3
C30: ８号ハ | D30: 都道府県が当該都道府県の区域内の複数の市区町村において地域資源として相当程度認識されている物品及び当該市区町村を認定し、当該物品を当該市区町村がそれぞれ返礼品等とするもの | Z30: ４号 | AA30: 区域内で行われている生産の内容（栽培、繁殖、肥育、養殖、水揚げ等） ※加工品は原則非該当 | AB30: 流通構造上、混在が避けられない理由 | AC30: 混在する可能性のある地方団体名 | AJ30: 3ロ（企画立案） | AK30: 3
C31: ９号 | D31: 震災、風水害、落雷、火災その他これらに類する災害により甚大な被害を受けたことにより、その被害を受ける前に提供していた前各号のいずれかに該当する返礼品等を提供することができなくなった場合において、当該返礼品等を代替するものとして提供するものであること。 | Z31: ５号 | AA31: 当該地方団体の広報のために作成されたオリジナルグッズ等であり、地方団体独自の返礼品であることが明白な理由（明白性が分かる資料をPDFで提出すること） | AB31: ・前指定対象期間において、当該地方団体が広報の目的で自ら調達し、配布又は販売を行った実績 ・今後予定している配布又は販売に係る具体的な予算額と使用計画（予算額と使用計画が分かる資料PDFで提出すること） | AC31: 当該地方団体が返礼品等として提供する数量が、回答欄Bにて回答した配布又は販売を行った数量を超えないものとする旨 | AJ31: 4 | AK31: 3
C32: 99号 | D32: 前各号のいずれかに該当する返礼品等とのみ交換させるために提供するものであること。（告示第５条柱書き）（例：○○pay商品券、△△Pay） | K32: =IF(L32="","","例３") | L32: =IFERROR(VLOOKUP($L$15&"③",$Z$46:$AC$70,2,FALSE),"") | P32: =IFERROR(VLOOKUP($L$15&"③",$Z$46:$AC$70,3,FALSE),"") | T32: =IFERROR(VLOOKUP($L$15&"③",$Z$46:$AC$70,4,FALSE),"") | Z32: ６号 | AA32: 地場産品について、該当する地場産品基準の類型(1～5号)及びその該当理由 | AB32: 地場産品と地場産品以外のものの附帯理由（使用目的等において、一般的に地場産品が主たるもの、地場産品以外のものが附帯するものであることが社会通念上明らかである理由） | AC32: ・調達費用のうち地場産品に係る費用 ・調達費用のうち附帯品に係る費用 ・地場産品の割合（要7割以上） | AJ32: 5 | AK32: 3
Z33: ７号 | AA33: ・役務が提供される施設名･所在地 | AB33: 役務の内容 ※区域内で提供されていても全国各地で同様の役務が提供されているなど、地域との関連性が希薄なものは７号役務に該当しません。 | AC33: 役務の内容が当該地方団体と相当程度関連性がある（区域外の同種の役務では代替できない）といえる理由 | AJ33: 6 | AK33: 3
Z34: ７号の２（宿泊） | AA34: 役務が提供される施設名･所在地 | AB34: 当該地方団体の区域内に所在する宿泊施設であって、当該地方団体が属する都道府県の区域内においてのみ宿泊施設の運営を行う者が運営する旨 | AC34: フランチャイズチェーン等の方式により、当該地方団体が属する都道府県の区域外に所在する宿泊施設のブランド名を冠するものではない旨 | AJ34: 7 | AK34: 3
Z35: ７号の３イ 五万以下（宿泊） | AA35: 役務が提供される施設名･所在地 | AB35: １人１泊あたりの調達費用の額 | AC35: ― | AJ35: 7の2（宿泊） | AK35: 3
K36: =IF(L36="","","例４") | L36: =IFERROR(VLOOKUP($L$15&"④",$Z$46:$AC$70,2,FALSE),"") | P36: =IFERROR(VLOOKUP($L$15&"④",$Z$46:$AC$70,3,FALSE),"") | T36: =IFERROR(VLOOKUP($L$15&"④",$Z$46:$AC$70,4,FALSE),"") | Z36: ７号の３ロ 該当地域（宿泊） | AA36: 役務が提供される施設名･所在地 | AB36: ・特定非常災害発生日 ・災害救助法が適用されたことが判る旨 | AC36: ― | AJ36: 7の3イ（宿泊 五万以下） | AK36: 2
Z37: ７号の４（電気） | AA37: 区域内で発電された電気であることが判る旨 | AB37: 地域のエネルギー源の種類（太陽光、バイオマス、地熱等） | AC37: ・当該電気の提供事業者名 ・返礼品等として提供する電気の総量が当該電気に係る区域内の発電量の範囲内となっている旨 | AJ37: 7の3ロ（宿泊 該当地域） | AK37: 2
Z38: ８号イ | AA38: 当該返礼品等を共通して提供する市区町村名全て | AB38: 当該返礼品等が該当する地場産品基準の類型（1～7号の4）及び当該類型で回答することとなっている内容すべて | AC38: 共通の返礼品等を提供するにあたって各団体の同意を得ている旨 ※申請時点で全団体の同意を得ている必要があります。 | AJ38: 7の4（電気） | AK38: 3
Z39: ８号ロ | AA39: 当該返礼品等を共通して提供する都道府県名および市区町村名全て | AB39: 当該返礼品等が該当する地場産品基準の類型（1～7号の4）及び当該類型で回答することとなっている内容すべて | AC39: 共通の返礼品等を提供するにあたって各団体の同意を得ている旨 | AJ39: 8イ | AK39: 3
Z40: ８号ハ | AA40: 認定地域資源名 | AB40: ― | AC40: ― | AJ40: 8ロ | AK40: 3
Z41: ９号 | AA41: 災害の名称及び発生時期 | AB41: 災害により提供ができなくなった返礼品等の概要（品目名、当該返礼品等が被災前に該当していた地場産品基準の類型及び該当理由） | AC41: ・代替品の詳細（品目名、生産地等） ・代替品といえる理由 | AJ41: 8ハ | AK41: 1
Z42: 99号 | AA42: 交換できるものの概要 ※交換できるもののうち、本シートに記載のないものは、「入力用(99号)」シートに記載。 | AB42: 地場産品以外のものと交換されないことの担保方法 | AC42: 民間事業者が提供するふるさと納税用のプラットフォームサービスを経由して返礼品等を提供するもの（例：○○pay商品券、△△Pay）である場合は、当該事業者名及び当該サービス名 | AJ42: 9 | AK42: 3
AJ43: 99 | AK43: 3
Z45: ③記入例
Z46: 地場産品基準のうち該当する類型 | AA46: 回答欄Ａ | AB46: 回答欄Ｂ | AC46: 回答欄Ｃ
Z47: １号 | AA47: 区域内の農場において、繁殖及び肥育を行っている。 | AB47: ― | AC47: ―
Z48: ２号 | AA48: ○○牛 | AB48: たまねぎ、ソース製造にかかる調味料 | AC48: ハンバーグに使用する牛肉は100％○○市で繁殖・肥育を行った精肉であり、ソース製造を踏まえても、牛肉による付加価値が製品全体の付加価値の約65％を占めているため。
Z49: ３号 | AA49: ハンバーグの製造にかかる○○牛ブロック肉からのミンチ、調味、成形、焼き上げのほか、ソースの製造にかかる調理 ※悪い記載例 区域内において加工・製造しているため | AB49: 以下原材料を区域外から仕入れ ○○牛のブロック肉 玉ねぎ | AC49: ―
Z50: ３号（熟成肉） | AA50: ○○県 | AB50: ○○県内で肥育された牛精肉のブロック肉を仕入れ、区域内の事業所内にある専用の熟成庫で温度や湿度、風、微生物を厳密に管理し、30日以上の熟成工程（ドライエイジング）を実施した後、ブロック肉のスライスを行っている。 | AC50: ―
Z51: ３号（精米） | AA51: ○○県 | AB51: ○○県内で収穫された玄米を区域内の精米工場にて、張込・玄米精選工程、精米工程、精米精選工程や小口精米・精選工程を行っている。 | AC51: ―
...

Sheet 【一覧】地場産品類型
C2: ◆地場産品類型 | K2: ◆該当類型ごとの記載内容一覧表
D3: 平成31年総務省告示第179号第６条に掲げる地場産品基準 | L3: 回答欄Ａ | M3: 回答欄Ｂ | N3: 回答欄Ｃ
C4: １号 | D4: 当該地方団体の区域内において生産されたものであること。 | K4: １号 | L4: 区域内で行われている生産の内容（栽培、繁殖、肥育、養殖、水揚げ等） ※加工品は２号または３号で記述すること | M4: ― | N4: ― | U4: 1 | V4: 1
C5: ２号 | D5: 当該地方団体の区域内において返礼品等の原材料の主要な部分が生産されたものであること。 | K5: ２号 | L5: 当該返礼品等の主な原材料のうち、区域内で生産された原材料名 | M5: 当該返礼品等の主な原材料のうち、区域外で生産された原材料名 | N5: 返礼品等の重量や付加価値のうち区域内で生産された原材料（回答欄A）によるものの割合（当該割合が全体の半分を一定程度以上上回るといえる理由を説明すること） | U5: 2 | V5: 3
C6: ３号 | D6: 当該地方団体の区域内において返礼品等の製造、加工その他の工程（イ及び第五号において「製造等」という。）を行うことにより当該返礼品等の価値の過半が生じているもの。 | K6: ３号 | L6: 区域内で行われている工程（加工･製造又は企画立案等）の詳細 ※実質的な変更を加える加工または製造に該当しない例 単なる切断や組み立て、梱包、混合などは相応の付加価値が生じていると判断できません。 | M6: 区域外で行われている工程の詳細 （区域外から原材料等を仕入れている場合は、主な原材料を記入） | N6: ・返礼品等の付加価値のうち区域内で行われている工程（回答欄A）によるものの算出方法（原則価格に基づく標準的な算出方法を用いて、a欄及びb欄に金額を入れることで算出すること） ※価格に基づかない算出方法を用いる場合は、具体的な割合及び算出方法を記載してください。 【（参考）標準的な算出方法】 算式 （a－b）／a 算式の符号 a：当該地方団体による返礼品等の調達費用 b：当該返礼品等の製造・販売等のために当該地方団体の区域外で生じた費用 割合：（a－b）／a | U6: 3 | V6: 3
C7: ３号（熟成肉） | D7: 地場産品基準第３号ただし書きに規定する、当該地方団体の属する都道府県の区域内において生産された食肉を原材料として、当該地方団体の区域内において熟成したもの。 | K7: ３号（熟成肉） | L7: 肉が生産（飼養）された都道府県名 | M7: 区域内で行われている熟成工程の詳細 | N7: 返礼品等の付加価値のうち区域内で行われている熟成工程（回答欄B）によるものの割合とその算出方法（原則価格に基づく標準的な算出方法を用いて、A欄及びB欄に金額を入れることで算出すること） ※価格に基づかない算出方法を用いる場合は、価格で算出しない理由、具体的な割合及び算出方法を記載してください。 | U7: 3イ（熟成肉） | V7: 3
C8: ３号（精米） | D8: 地場産品基準第３号ただし書きに規定する、当該地方団体の属する都道府県の区域内において生産された玄米を原材料として、当該地方団体の区域内において精白したもの。 | K8: ３号（精米） | L8: 米が生産（栽培）された都道府県名 | M8: 区域内で行われている精米工程の詳細 | N8: 返礼品等の付加価値のうち区域内で行われている精米工程（回答欄B）によるものの割合とその算出方法（原則価格に基づく標準的な算出方法を用いて、A欄及びB欄に金額を入れることで算出すること） ※価格に基づかない算出方法を用いる場合は、価格で算出しない理由、具体的な割合及び算出方法を記載してください。 | U8: 3イ（精米） | V8: 3
C9: ４号 | D9: 返礼品等を提供する市区町村の区域内において生産されたものであって、近隣の他の市区町村の区域内において生産されたものと混在したもの（流通構造上、混在することが避けられない場合に限る。）であること。 | K9: ４号 | L9: 区域内で行われている生産の内容（栽培、繁殖、肥育、養殖、水揚げ等） ※加工品は原則非該当 | M9: 流通構造上、混在が避けられない理由 | N9: 混在する可能性のある地方団体名 | U9: 4 | V9: 3
C10: ５号 | D10: 地方団体の広報の目的で生産された当該地方団体のキャラクターグッズ、オリジナルグッズその他これらに類するものであって、形状、名称その他の特徴から当該地方団体の独自の返礼品等であることが明白なものであること。 | K10: ５号 | L10: 当該地方団体の広報のために作成されたオリジナルグッズ等であり、地方団体独自の返礼品であることが明白な理由（明白性が分かる資料をPDFで提出すること） | M10: ・前指定対象期間において、当該地方団体が広報の目的で自ら調達し、配布又は販売を行った実績 ・今後予定している配布又は販売に係る具体的な予算額と使用計画（予算額と使用計画が分かる資料PDFで提出すること） | N10: 当該地方団体が返礼品等として提供する数量が、回答欄Bにて回答した配布又は販売を行った数量を超えないものとする旨 | U10: 5 | V10: 3
C11: ６号 | D11: 前各号に該当する返礼品等と当該返礼品等に附帯するものとを合わせて提供するものであって、当該返礼品等の価値が当該提供するものの価値全体の七割以上であること。 | K11: ６号 | L11: 地場産品について、該当する地場産品基準の類型(1～5号)及びその該当理由 | M11: 地場産品と地場産品以外のものの附帯理由（使用目的等において、一般的に地場産品が主たるもの、地場産品以外のものが附帯するものであることが社会通念上明らかである理由） | N11: ・調達費用のうち地場産品に係る費用 ・調達費用のうち附帯品に係る費用 ・地場産品の割合（要7割以上） | U11: 6 | V11: 3
C12: ７号 | D12: 当該地方団体の区域内において提供される役務その他これに準ずるもの（宿泊（飲食を伴うものを含む。）の提供に係る役務を除く。）であって、当該役務の主要な部分が当該地方団体に相当程度関連性のあるものであること。 | K12: ７号 | L12: ・役務が提供される施設名･所在地 | M12: 役務の内容 ※区域内で提供されていても全国各地で同様の役務が提供されているなど、地域との関連性が希薄なものは７号役務に該当しません。 | N12: 役務の内容が当該地方団体と相当程度関連性がある（区域外の同種の役務では代替できない）といえる理由 | U12: 7 | V12: 3
C13: ７号の２（宿泊） | D13: 当該地方団体の区域内に所在する宿泊施設であって、当該地方団体の属する都道府県の区域内においてのみ宿泊施設の運営を行う者が運営するもの（フランチャイズチェーン等の方式により、当該地方団体の属する都道府県の区域外に所在する宿泊施設のブランド名を冠するものを除く。）における宿泊の提供に係る役務であること。 | K13: ７号の２（宿泊） | L13: 役務が提供される施設名･所在地 | M13: 当該地方団体の区域内に所在する宿泊施設であって、当該地方団体が属する都道府県の区域内においてのみ宿泊施設の運営を行う者が運営する旨 | N13: フランチャイズチェーン等の方式により、当該地方団体が属する都道府県の区域外に所在する宿泊施設のブランド名を冠するものではない旨 | U13: 7の2（宿泊） | V13: 3
C14: ７号の３イ 五万以下（宿泊） | D14: 当該地方団体の区域内に所在する宿泊施設における宿泊の提供に係る役務であって、前号に該当しないもののうち、当該役務の調達に要する費用の額が一夜につき一人当たり五万円を超えないもの | K14: ７号の３イ 五万以下（宿泊） | L14: 役務が提供される施設名･所在地 | M14: １人１泊あたりの調達費用の額 | N14: ― | U14: 7の3イ（宿泊 五万以下） | V14: 2
C15: ７号の３ロ 該当地域（宿泊） | D15: 当該地方団体の区域内に所在する宿泊施設における宿泊の提供に係る役務であって、前号に該当しないもののうち、特定非常災害の被害者の権利利益の保全等を図るための特別措置に関する法律（平成８年法律第85号）第２条第１項に規定する特定非常災害として指定された非常災害に際し災害救助法（昭和22年法律第118号）が適用された同法第２条第１項に規定する災害発生市町村が属する都道府県の区域内の地方団体により提供されるもの | K15: ７号の３ロ 該当地域（宿泊） | L15: 役務が提供される施設名･所在地 | M15: ・特定非常災害発生日 ・災害救助法が適用されたことが判る旨 | N15: ― | U15: 7の3ロ（宿泊 該当地域） | V15: 2
C16: ７号の４（電気） | D16: 当該地方団体の区域内において地域のエネルギー源により発電された電気であること。 | K16: ７号の４（電気） | L16: 区域内で発電された電気であることが判る旨 | M16: 地域のエネルギー源の種類（太陽光、バイオマス、地熱等） | N16: ・当該電気の提供事業者名 ・返礼品等として提供する電気の総量が当該電気に係る区域内の発電量の範囲内となっている旨 | U16: 7の4（電気） | V16: 3
C17: ８号イ | D17: 市区町村が近隣の他の市区町村と共同でこれらの市区町村の区域内において前各号のいずれかに該当するものを共通の返礼品等とするもの | K17: ８号イ | L17: 当該返礼品等を共通して提供する市区町村名全て | M17: 当該返礼品等が該当する地場産品基準の類型（1～7号の4）及び当該類型で回答することとなっている内容すべて | N17: 共通の返礼品等を提供するにあたって各団体の同意を得ている旨 ※申請時点で全団体の同意を得ている必要があります。 | U17: 8イ | V17: 3
C18: ８号ロ | D18: 都道府県が当該都道府県の区域内の複数の市区町村と連携し、当該連携する市区町村の区域内において前各号のいずれかに該当するものを当該都道府県及び当該市区町村の共通の返礼品等とするもの | K18: ８号ロ | L18: 当該返礼品等を共通して提供する都道府県名および市区町村名全て | M18: 当該返礼品等が該当する地場産品基準の類型（1～7号の4）及び当該類型で回答することとなっている内容すべて | N18: 共通の返礼品等を提供するにあたって各団体の同意を得ている旨 | U18: 8ロ | V18: 3
C19: ８号ハ | D19: 都道府県が当該都道府県の区域内の複数の市区町村において地域資源として相当程度認識されている物品及び当該市区町村を認定し、当該物品を当該市区町村がそれぞれ返礼品等とするもの | K19: ８号ハ | L19: 認定地域資源名 | M19: ― | N19: ― | U19: 8ハ | V19: 1
C20: ９号 | D20: 震災、風水害、落雷、火災その他これらに類する災害により甚大な被害を受けたことにより、その被害を受ける前に提供していた前各号のいずれかに該当する返礼品等を提供することができなくなった場合において、当該返礼品等を代替するものとして提供するものであること。 | K20: ９号 | L20: 災害の名称及び発生時期 | M20: 災害により提供ができなくなった返礼品等の概要（品目名、当該返礼品等が被災前に該当していた地場産品基準の類型及び該当理由） | N20: ・代替品の詳細（品目名、生産地等） ・代替品といえる理由 | U20: 9 | V20: 3
C21: 99号 | D21: 前各号のいずれかに該当する返礼品等とのみ交換させるために提供するものであること。（告示第５条柱書き）（例：○○pay商品券、△△Pay） | K21: 99号 | L21: 交換できるものの概要 ※交換できるもののうち、本シートに記載のないものは、「入力用(99号)」シートに記載。 | M21: 地場産品以外のものと交換されないことの担保方法 | N21: 民間事業者が提供するふるさと納税用のプラットフォームサービスを経由して返礼品等を提供するもの（例：○○pay商品券、△△Pay）である場合は、当該事業者名及び当該サービス名 | U21: 99 | V21: 3
K23: ◆記入例
K24: 地場産品基準のうち該当する類型 | L24: 回答欄Ａ | M24: 回答欄Ｂ | N24: 回答欄Ｃ
K25: 1号 | L25: 区域内の農場において、繁殖及び肥育を行っている。 | M25: ― | N25: ―
K26: 2号 | L26: ○○牛 | M26: たまねぎ、ソース製造にかかる調味料 | N26: ハンバーグに使用する牛肉は100％○○市で繁殖・肥育を行った精肉であり、ソース製造を踏まえても、牛肉による付加価値が製品全体の付加価値の約65％を占めているため。
K27: 3号 | L27: ハンバーグの製造にかかる○○牛ブロック肉からのミンチ、調味、成形、焼き上げのほか、ソースの製造にかかる調理 ※悪い記載例 区域内において加工・製造しているため | M27: 以下原材料を区域外から仕入れ ○○牛のブロック肉 玉ねぎ | N27: ―
K28: 3（熟成肉） | L28: ○○県 | M28: ○○県内で肥育された牛精肉のブロック肉を仕入れ、区域内の事業所内にある専用の熟成庫で温度や湿度、風、微生物を厳密に管理し、30日以上の熟成工程（ドライエイジング）を実施した後、ブロック肉のスライスを行っている。 | N28: ―
K29: 3（精米） | L29: ○○県 | M29: ○○県内で収穫された玄米を区域内の精米工場にて、張込・玄米精選工程、精米工程、精米精選工程や小口精米・精選工程を行っている。 | N29: ―
K30: 4号 | L30: 区域内の果樹園において、生産されている。 | M30: 区域内で生産された後、本市を含む範囲を管轄する○○選果場に集荷・格付けされ、混在が避けられないため。 | N30: ○○県△△市、○○県■■町
K31: 5号 | L31: ◯◯市の広報目的で生産された○○市公認であるゆるキャラ○○君のキーホルダーであり、当市のオリジナルグッズである。 | M31: 前指定対象期間において、○○市が自ら調達し、○○個販売を行った。なお、今後予定している販売に係る具体的な予算額と使用計画は別紙のとおりである。 | N31: ○○市が自ら調達し、販売した○○個を超えないように、返礼品としての提供個数を調整する。
K32: 6号 | L32: 蕎麦：３号。区域内から蕎麦の実を仕入れ、原材料計量、ミキシング、複合・麺帯、圧延、切出し、裁断、包装までの工程を区域内で行っており、区域内における加工工程の付加価値の割合は70％である。なお、価格に基づいて算出しており、算出式は以下のとおりである。 (1000円-300円)/1000円＝７０％ | M32: ○○市で製造・加工された地場産品の蕎麦を食べる上で、蕎麦本来の香りと風味を引き立てるために、そばつゆをセットとしている。地場産品である蕎麦が主たるもの、絡めて食べるためのそばつゆが附帯するものであることは社会通念上明らかである。 | N32: 地場産品：1,000円、附帯品350円、割合７４％
K33: 7号 | L33: 名称：◯◯牧場 住所：○○県○○市○○１－１－１○○ | M33: ◯◯牧場における酪農体験を提供 | N33: ◯◯牧場は当市の特色である豊かな自然の中、親子で乳牛の乳絞り体験ができ、絞った乳が牛乳になる工程を見学できる独自の体験を提供をするなど、酪農が有名である当市ならではのサービスの提供を受けることができるため、相当程度関連性があるといえる。 ※悪い記載例 ○○市において提供されているため、○○市と相当程度関連性がある。
K34: 7号 | L34: 名称：レストラン○○ 住所：●●県●●市●●１－１－１●● | M34: 区域外のレストラン○○における食事の提供。 | N34: レストラン○○にて提供される▲▲市特別コースは、コースの内容は下記記載のとおりであり、それぞれのコース料理の８割以上が区域内産の食材を使っていることから▲▲市と相当程度関連性がある。 【コース内容（地場産品の食材が使用されている割合）】 ・◇◇（〇％） ・□□（〇％） ・△△（〇％） ・××（〇％）
K35: 7号の2（宿泊） | L35: 名称：◯◯温泉旅館 ▲▲ 住所：○○市●●１－１－１●● | M35: 創業■■年以来、△△市内のみで運営している。 | N35: 県外に所在するホテルのブランド名を冠する宿泊施設ではない。事業者にも確認済み
... K45: 99号 | L45: 区域内の施設で実施している体験アクティビティ及び区域内の道の駅で販売されている地場産品 | M45: 本電子マネーの決済システムにおいて、地場産品基準に該当している役務及び物品にしか使用できない仕様となっている | N45: サービス名：○○Ｐａｙ 事業者名：○○株式会社

Sheet Sheet1
C2: 1号
C3: 2号
C4: 3号
C5: 3号イ（熟成肉）
C6: 3号イ（精米）
C7: 3号ロ（企画立案）
C8: 4号
C9: 5号
C10: 6号
C11: 7号
C12: 7号
C13: 7号
... C25: 99号
